BEGIN:VCALENDAR
VERSION:2.0
PRODID:-//Tukios.com/
BEGIN:VEVENT
UID:fe91ed20-94a2-49c6-99d3-71b264c77713@www.leonawhitefh.com
DTSTAMP:20260421T114509Z
DTSTART:20260502T150000Z
DTEND:20260502T160000Z
SUMMARY:Funeral Service
DESCRIPTION:Mr. Jones will lay to rest for family and friends 2 hours 
	before the service.
URL:https://www.leonawhitefh.com/obituaries/mr-leron-jones
LOCATION: 11100 Wingate Road  Jacksonville FL 32218
GEO:30.4367908;-81.7099862
END:VEVENT
END:VCALENDAR