BEGIN:VCALENDAR
VERSION:2.0
PRODID:-//Tukios.com/
BEGIN:VEVENT
UID:814add57-840d-4ccf-a183-59370e823977@www.leonawhitefh.com
DTSTAMP:20260421T113809Z
DTSTART:20260501T200000Z
DTEND:20260502T000000Z
SUMMARY:Viewing
DESCRIPTION:
URL:https://www.leonawhitefh.com/obituaries/mr-leron-jones
LOCATION: 5512 Wesconnett Blvd  Jacksonville FL 32244
GEO:30.2467666;-81.7390092
END:VEVENT
END:VCALENDAR